BEGIN:VCALENDAR
VERSION:2.0
PRODID:https://github.com/derhansen/sf_event_mgt
METHOD:PUBLISH
BEGIN:VEVENT
UID:34-35@www.westmbh.de
CLASS: PUBLIC
SUMMARY:Steuertipps für Existenzgründerinnen & Existenzgründer
DESCRIPTION:
LOCATION:GRIPS III, Am Campus 2,  48565 Steinfurt
DTSTAMP:20260409T120205Z
DTSTART:20261104T090000Z
DTEND:20261104T120000Z
END:VEVENT
END:VCALENDAR
